BEGIN:VCALENDAR
VERSION:2.0
PRODID:-//West 7th Wool - ECPv4.6//NONSGML v1.0//EN
CALSCALE:GREGORIAN
METHOD:PUBLISH
X-WR-CALNAME:West 7th Wool
X-ORIGINAL-URL:https://west7thwool.com
X-WR-CALDESC:Events for West 7th Wool
BEGIN:VEVENT
DTSTART;TZID=America/Chicago:20251115T103000
DTEND;TZID=America/Chicago:20251115T113000
DTSTAMP:20260423T140827
CREATED:20251023T194752Z
LAST-MODIFIED:20251023T194752Z
UID:4015-1763202600-1763206200@west7thwool.com
SUMMARY:11/15 Beginning Knitting Class - Saturday
DESCRIPTION:Click here or the link below to register and for more information. \n
URL:https://west7thwool.com/event/1115-beginning-knitting-class-saturday/
LOCATION:3612 West 7th Street\, Fort Worth\, TX\, 76107\, United States
CATEGORIES:Class
ORGANIZER;CN="West%207th%20Wool":MAILTO:info@west7thwool.com
END:VEVENT
END:VCALENDAR