BEGIN:VCALENDAR
VERSION:2.0
PRODID:-//West 7th Wool - ECPv4.6//NONSGML v1.0//EN
CALSCALE:GREGORIAN
METHOD:PUBLISH
X-WR-CALNAME:West 7th Wool
X-ORIGINAL-URL:https://west7thwool.com
X-WR-CALDESC:Events for West 7th Wool
BEGIN:VEVENT
DTSTART;TZID=America/Chicago:20250424T103000
DTEND;TZID=America/Chicago:20250424T123000
DTSTAMP:20260420T214943
CREATED:20250326T183505Z
LAST-MODIFIED:20250326T183505Z
UID:3699-1745490600-1745497800@west7thwool.com
SUMMARY:4/24 Sock Clinic - Thursday
DESCRIPTION:Click here or the link below to register and for more information. \n
URL:https://west7thwool.com/event/424-sock-clinic-thursday/
LOCATION:3612 West 7th Street\, Fort Worth\, TX\, 76107\, United States
CATEGORIES:Class
ATTACH;FMTTYPE=image/png:https://west7thwool.com/wp-content/uploads/2024/12/Screen-Shot-2024-12-16-at-9.11.45-PM.png
ORGANIZER;CN="West%207th%20Wool":MAILTO:info@west7thwool.com
END:VEVENT
END:VCALENDAR