BEGIN:VCALENDAR
VERSION:2.0
PRODID:-//West 7th Wool - ECPv4.6//NONSGML v1.0//EN
CALSCALE:GREGORIAN
METHOD:PUBLISH
X-WR-CALNAME:West 7th Wool
X-ORIGINAL-URL:https://west7thwool.com
X-WR-CALDESC:Events for West 7th Wool
BEGIN:VEVENT
DTSTART;TZID=America/Chicago:20250501T103000
DTEND;TZID=America/Chicago:20250501T123000
DTSTAMP:20260420T131926
CREATED:20250427T180752Z
LAST-MODIFIED:20250427T180752Z
UID:3740-1746095400-1746102600@west7thwool.com
SUMMARY:5/1 Sock Clinic - Thursday
DESCRIPTION:Click here or the link below to register or for more information. \n
URL:https://west7thwool.com/event/51-sock-clinic-thursday/
LOCATION:3612 West 7th Street\, Fort Worth\, TX\, 76107\, United States
CATEGORIES:Class
ORGANIZER;CN="West%207th%20Wool":MAILTO:info@west7thwool.com
END:VEVENT
END:VCALENDAR