BEGIN:VCALENDAR
VERSION:2.0
PRODID:-//West 7th Wool - ECPv4.6//NONSGML v1.0//EN
CALSCALE:GREGORIAN
METHOD:PUBLISH
X-WR-CALNAME:West 7th Wool
X-ORIGINAL-URL:https://west7thwool.com
X-WR-CALDESC:Events for West 7th Wool
BEGIN:VEVENT
DTSTART;TZID=America/Chicago:20250729T103000
DTEND;TZID=America/Chicago:20250729T123000
DTSTAMP:20260423T104808
CREATED:20250626T195934Z
LAST-MODIFIED:20250626T195934Z
UID:3856-1753785000-1753792200@west7thwool.com
SUMMARY:7/29 Project Help Class - Tuesday
DESCRIPTION:Click here or the link below for more info and to register. \n
URL:https://west7thwool.com/event/729-project-help-class-tuesday/
LOCATION:3612 West 7th Street\, Fort Worth\, TX\, 76107\, United States
CATEGORIES:Class
ATTACH;FMTTYPE=image/png:https://west7thwool.com/wp-content/uploads/2018/09/Screen-Shot-2018-09-23-at-3.47.22-PM.png
ORGANIZER;CN="West%207th%20Wool":MAILTO:info@west7thwool.com
END:VEVENT
END:VCALENDAR