BEGIN:VCALENDAR
VERSION:2.0
PRODID:-//West 7th Wool - ECPv4.6//NONSGML v1.0//EN
CALSCALE:GREGORIAN
METHOD:PUBLISH
X-WR-CALNAME:West 7th Wool
X-ORIGINAL-URL:https://west7thwool.com
X-WR-CALDESC:Events for West 7th Wool
BEGIN:VEVENT
DTSTART;TZID=America/Chicago:20250911T103000
DTEND;TZID=America/Chicago:20250911T123000
DTSTAMP:20260421T113923
CREATED:20250827T181915Z
LAST-MODIFIED:20250827T181915Z
UID:3920-1757586600-1757593800@west7thwool.com
SUMMARY:9/11 Project Help Class - Thursday
DESCRIPTION:Click here or the link below to register and for more information. \n
URL:https://west7thwool.com/event/911-project-help-class-thursday/
LOCATION:3612 West 7th Street\, Fort Worth\, TX\, 76107\, United States
CATEGORIES:Class
ATTACH;FMTTYPE=image/png:https://west7thwool.com/wp-content/uploads/2018/09/Screen-Shot-2018-09-23-at-3.47.22-PM.png
ORGANIZER;CN="West%207th%20Wool":MAILTO:info@west7thwool.com
END:VEVENT
END:VCALENDAR