BEGIN:VCALENDAR
VERSION:2.0
PRODID:-//West 7th Wool - ECPv4.6//NONSGML v1.0//EN
CALSCALE:GREGORIAN
METHOD:PUBLISH
X-WR-CALNAME:West 7th Wool
X-ORIGINAL-URL:https://west7thwool.com
X-WR-CALDESC:Events for West 7th Wool
BEGIN:VEVENT
DTSTART;TZID=America/Chicago:20180908T130000
DTEND;TZID=America/Chicago:20180908T160000
DTSTAMP:20260423T025748
CREATED:20180822T170102Z
LAST-MODIFIED:20180822T170102Z
UID:957-1536411600-1536422400@west7thwool.com
SUMMARY:Blending Fiber For Spinning
DESCRIPTION:		\n		 document.getElementById('ShopifyEmbedScript') || document.write(''); \nRegistration Deadline: Friday\, September 7\, 5:00pmInstructor: Mel MillsTime: Saturday Afternoon from 1pm to 4pmDate: September 8Supplies Included: Various fibers – you will be taking home the fiber that you blend.Skills Taught: In this class\, you’ll learn the basics of color theory\, which is crucial to avoid a ‘muddying’ effect when blending colors. Further\, we’ll discuss the concepts and practice specific techniques for blending fibers together using a couple of different methods like a blending board and a drum carder. This class gives you exposure to the fiber prep tools without requiring you to purchase them ahead of time — although\, we do highly recommend to bring any tools you may have purchased and yet unsure of how to use to this class. Afterwards\, you’ll be inspired to make your own unique fiber combinations for spinning and have the confidence to delve deeper into fiber preparation. \nClass policies: Enrollment: Class is limited to 8 people unless approved by the instructor. Payment must be made at time of enrollment to ensure there is a space for you. You can sign up in the store\, online\, or by phone (817)731-5044.  \nCancellations: If you need to cancel your class registration\, you will be issued store credit for the class amount if you give us a week or more notice. If given less than a week and we can fill your spot in the knitting class\, you will be issued store credit for the class amount.  \nIf there are less than 2 students in a class\, the class may be cancelled one day prior and store credit will be issued for the class fee.  \n
URL:https://west7thwool.com/event/blending-fiber-spinning/
LOCATION:3612 West 7th Street\, Fort Worth\, TX\, 76107\, United States
CATEGORIES:Class
ATTACH;FMTTYPE=image/png:https://west7thwool.com/wp-content/uploads/2016/09/Screen-Shot-2016-09-29-at-12.00.16-PM.png
ORGANIZER;CN="West%207th%20Wool":MAILTO:info@west7thwool.com
END:VEVENT
END:VCALENDAR