BEGIN:VCALENDAR
VERSION:2.0
PRODID:-//West 7th Wool - ECPv4.6//NONSGML v1.0//EN
CALSCALE:GREGORIAN
METHOD:PUBLISH
X-WR-CALNAME:West 7th Wool
X-ORIGINAL-URL:https://west7thwool.com
X-WR-CALDESC:Events for West 7th Wool
BEGIN:VEVENT
DTSTART;TZID=America/Chicago:20181216T130000
DTEND;TZID=America/Chicago:20181216T150000
DTSTAMP:20260424T060535
CREATED:20181127T205530Z
LAST-MODIFIED:20181127T205614Z
UID:1064-1544965200-1544972400@west7thwool.com
SUMMARY:Bow Knot Scarf Knitting Class
DESCRIPTION:Bow Knot Scarf ClassClick here to registerRegistration Deadline: Friday\, December 14 @ 5:00 pm \nInstructor: Jennifer Nevitt.Time: Sunday Afternoon from 1pm to 3pmDate: December 16 \nThe Bow Knot Scarf is a quick and easy garter stitch knit. Great for a last minute gift.  \nSkills Taught: Increasing and decreasing knit stitches. Supplies: 50g worsted weight yarn\, US 7 or 8 needles. You can use either circular or straight needles\, but you will need an extra needle or a stitch holder. A set of double pointed needles work great – and don’t worry – there is no knitting in the round.                Pattern: Bow Knot Scarf by Katherine BurgessPattern provided in class.  \nClass policies: Enrollment: Class is limited to 8 people unless approved by the instructor. Enrollment must be made at least 24 hours in advance of the first class to ensure there is a space for you. You can sign up in the store\, online\, or by phone (817)731-5044.  \nCancellations: If you need to cancel your class registration\, you will be issued store credit for the class amount if you give us a week or more notice. If given less than a week and we can fill your spot in the knitting class\, you will be issued store credit for the class amount.  \nIf there are less than 4 students in a class\, the class may be cancelled one day prior and store credit will be issued for the class fee.  \nMissed Classes:Missed single classes cannot be made up or credited towards a future class.  \n
URL:https://west7thwool.com/event/bow-knot-scarf-knitting-class/
LOCATION:3612 West 7th Street\, Fort Worth\, TX\, 76107\, United States
CATEGORIES:Class
ATTACH;FMTTYPE=image/jpeg:https://west7thwool.com/wp-content/uploads/2018/11/IMG_4559.jpg
ORGANIZER;CN="West%207th%20Wool":MAILTO:info@west7thwool.com
END:VEVENT
END:VCALENDAR