BEGIN:VCALENDAR
VERSION:2.0
PRODID:-//West 7th Wool - ECPv4.6//NONSGML v1.0//EN
CALSCALE:GREGORIAN
METHOD:PUBLISH
X-WR-CALNAME:West 7th Wool
X-ORIGINAL-URL:https://west7thwool.com
X-WR-CALDESC:Events for West 7th Wool
BEGIN:VEVENT
DTSTART;TZID=America/Chicago:20170907T180000
DTEND;TZID=America/Chicago:20170907T200000
DTSTAMP:20260424T025927
CREATED:20170823T232835Z
LAST-MODIFIED:20170823T232835Z
UID:599-1504807200-1504814400@west7thwool.com
SUMMARY:Boxy Sweater Class
DESCRIPTION:		\n		 document.getElementById('ShopifyEmbedScript') || document.write(''); \nRegistration Deadline: Wednesday\, September 6\,  5:00 pmInstructor: Sherry SmithTime: Thursday Evenings from 6pm to 8pmDate: September 7\, September 21\, October 5 and October 19Skills Level: IntermediatePattern: Boxy by Joji Locatelli (pattern provided in class) Boxy is a very simple modern sweater\, with a very wide body and skinny sleeves. Worked with a lightweight yarn it is very flattering\, drapey and stylish!  \nA little short row section in the shoulders adds an interesting texture to the sleeves. Directions are given to make a seamless version (worked in the round) or a seamed version (worked back and forth) of the body. The sleeves and the neckband are worked seamlessly in the round in both versions. \n Sizes: 28/30\, (32/34\, 36/38\, 40/42\, 44/46\, 48/50\, 52/54). Note on sizing: This sweater can fit a big range of sizes. The biggest difference among the different sizes is the sleeve circumference. \n Finished Measurements: Body circumference: 64 (68\, 68\, 68\, 76\, 76\, 76) inches; 160 (170\, 170\, 170\, 190\, 190\, 190) cm. Sleeve circumference at elbow: 9 (9¼\, 9¾\, 10½\, 11\, 12\, 13) inches; 22½\, (23\, 24½\, 26\, 27½\, 30\, 32½) cm. Sleeve length from elbow to cuff: 6 inches; 15 cm. Length from shoulder to bottom: 20½ (20¾\, 23\, 23¼\, 23½\, 25\, 25½) inches; 51 (51½\, 52\, 58\, 59\, 62½\, 64) cm. \n Materials: Yarn: Any fingering/sock weight yarn (420 yd /100g)\, or any fingering weight yarn that knits to the gauge: 4 (4\, 4\, 4\, 5\, 5\, 5) skeins. \n Needles: US 4 (3.5mm) straight or circular needles for the body (directions for seamed and seamless versions are provided). US 4 (3.5mm) and US 2½ (3mm) circular needles for the neckband and sleeves (needed for both versions). \n Notions: Stitch holders\, tapestry needle\, an extra needle for 3-needle-bind off. \n Gauge: 23 st and 30 rows to 4 inches on US 4 (3.5mm) needles\, in stockinette stitch\, after blocking. \n\n\n\n               Class policies: Enrollment: Class is limited to 8 people unless approved by the instructor. Enrollment must be made at least 24 hours in advance of the first class to ensure there is a space for you. You can sign up in the store\, online\, or by phone (817)731-5044.  \nCancellations: If you need to cancel your class registration\, you will be issued store credit for the class amount if you give us a week or more notice. If given less than a week and we can fill your spot in the knitting class\, you will be issued store credit for the class amount.  \n\n\n\nIf there are less than 4 students in a class\, the class may be cancelled one day prior and store credit will be issued for the class fee.  \nMissed Classes:Missed single classes cannot be made up or credited towards a future class.  \n
URL:https://west7thwool.com/event/boxy-sweater-class/
LOCATION:3612 West 7th Street\, Fort Worth\, TX\, 76107\, United States
CATEGORIES:Class
ATTACH;FMTTYPE=image/png:https://west7thwool.com/wp-content/uploads/2017/08/Screen-Shot-2017-08-22-at-4.34.43-PM.png
ORGANIZER;CN="West%207th%20Wool":MAILTO:info@west7thwool.com
END:VEVENT
END:VCALENDAR