BEGIN:VCALENDAR
VERSION:2.0
PRODID:-//West 7th Wool - ECPv4.6//NONSGML v1.0//EN
CALSCALE:GREGORIAN
METHOD:PUBLISH
X-WR-CALNAME:West 7th Wool
X-ORIGINAL-URL:https://west7thwool.com
X-WR-CALDESC:Events for West 7th Wool
BEGIN:VEVENT
DTSTART;TZID=America/Chicago:20180824T100000
DTEND;TZID=America/Chicago:20180824T180000
DTSTAMP:20260423T105317
CREATED:20180811T004512Z
LAST-MODIFIED:20180811T004512Z
UID:943-1535104800-1535133600@west7thwool.com
SUMMARY:Brazen Stitchery Trunk Show
DESCRIPTION:The fun continues on Friday with a Brazen Stitchery trunk show. Come meet owner and dyer Stacey Blanton.  \n
URL:https://west7thwool.com/event/brazen-stitchery-trunk-show/
LOCATION:3612 West 7th Street\, Fort Worth\, TX\, 76107\, United States
ATTACH;FMTTYPE=image/png:https://west7thwool.com/wp-content/uploads/2018/08/Screen-Shot-2018-08-10-at-7.42.13-PM.png
ORGANIZER;CN="West%207th%20Wool":MAILTO:info@west7thwool.com
END:VEVENT
END:VCALENDAR