BEGIN:VCALENDAR
VERSION:2.0
PRODID:-//West 7th Wool - ECPv4.6//NONSGML v1.0//EN
CALSCALE:GREGORIAN
METHOD:PUBLISH
X-WR-CALNAME:West 7th Wool
X-ORIGINAL-URL:https://west7thwool.com
X-WR-CALDESC:Events for West 7th Wool
BEGIN:VEVENT
DTSTART;TZID=America/Chicago:20181014T130000
DTEND;TZID=America/Chicago:20181014T150000
DTSTAMP:20260422T202730
CREATED:20180925T015809Z
LAST-MODIFIED:20180925T015809Z
UID:1011-1539522000-1539529200@west7thwool.com
SUMMARY:Cabled Hat Class
DESCRIPTION:		\n		 document.getElementById('ShopifyEmbedScript') || document.write(''); \nRegistration Deadline: October 11\, 5:00 PMInstructor: Jennifer NevittDate: October 14\, 1pm – 3pmSupplies Needed:  Yarn100g worsted weight yarn  \n\nSizing To fit an adult head 22-24 inches in circumference. \nFinished Measurements 8 inches wide\, 11 inches long (unfolded brim) or 8.5 inches long (folded brim) \nNeedles 4mm / 6US 16” circular needle 5mm / 8US 16” circular needle 5mm / 8US dpns for decreases \nGauge Ribbing: 20 stitches per 4 inches in rib pattern (unstretched)\, using smaller needles Body: 12 stitches and 7 rows = 2 inches by 1 inch in the cable pattern\, using larger needles \n\nSkill Level: Intermediate Homework: With smaller circular needles cast on 96 stitches. Place marker and join in round. Work K2\, P2 ribbing until piece measures 4” from cast on edge. \nClass policies: Enrollment: Class is limited to 8 people unless approved by the instructor. Enrollment must be made at least 24 hours in advance of the first class to ensure there is a space for you. You can sign up in the store\, online\, or by phone (817)731-5044. Payment should be made at time of enrollment.  \nCancellations: If you need to cancel your class registration\, you will be issued store credit for the class amount if you give us a week or more notice. If given less than a week and we can fill your spot in the knitting class\, you will be issued store credit for the class amount.  \nIf there are less than 2 students in a class\, the class may be cancelled one day prior and store credit will be issued for the class fee.  \nMissed Classes:Missed single classes cannot be made up or credited towards a future class.  \n
URL:https://west7thwool.com/event/cabled-hat-class/
LOCATION:3612 West 7th Street\, Fort Worth\, TX\, 76107\, United States
CATEGORIES:Class
ATTACH;FMTTYPE=image/png:https://west7thwool.com/wp-content/uploads/2018/09/Screen-Shot-2018-09-24-at-8.47.39-PM.png
ORGANIZER;CN="West%207th%20Wool":MAILTO:info@west7thwool.com
END:VEVENT
END:VCALENDAR