BEGIN:VCALENDAR
VERSION:2.0
PRODID:-//West 7th Wool - ECPv4.6//NONSGML v1.0//EN
CALSCALE:GREGORIAN
METHOD:PUBLISH
X-WR-CALNAME:West 7th Wool
X-ORIGINAL-URL:https://west7thwool.com
X-WR-CALDESC:Events for West 7th Wool
BEGIN:VEVENT
DTSTART;TZID=America/Chicago:20180902T130000
DTEND;TZID=America/Chicago:20180902T150000
DTSTAMP:20260423T061525
CREATED:20180822T165732Z
LAST-MODIFIED:20180822T165732Z
UID:954-1535893200-1535900400@west7thwool.com
SUMMARY:Cuff Down Sock Knitting Class
DESCRIPTION:Sock Knitting Class for Beginners \nInstructor: Jennifer Nevitt.Registration Deadline: Friday\, August 31 5:00pmTime: Sunday Afternoons from 1pm to 3pmDates: September 2\, 16 and 30Skills Taught: Knitting socks in the round\, top down on double pointed needles. Supplies: 100 grams of sock weight yarn\, size 1 double pointed needles             Pattern: provided by instructor at time of class \nClass policies: Enrollment: Class is limited to 8 people unless approved by the instructor. Enrollment must be completed 24 hours prior to the class to ensure there is a space for you. You can sign up in the store\, online\, or by phone (817)731-5044.  \nCancellations: If you need to cancel your class registration\, you will be issued store credit for the class amount if you give us a week or more notice. If given less than a week and we can fill your spot in the knitting class\, you will be issued store credit for the class amount.  \nIf there are less than 4 students in a class\, the class may be cancelled one day prior and store credit will be issued for the class fee.  \nMissed Classes:Missed single classes cannot be made up or credited towards a future class. 		\n		 document.getElementById('ShopifyEmbedScript') || document.write('');  \n
URL:https://west7thwool.com/event/cuff-sock-knitting-class/
LOCATION:3612 West 7th Street\, Fort Worth\, TX\, 76107\, United States
CATEGORIES:Class
ATTACH;FMTTYPE=image/png:https://west7thwool.com/wp-content/uploads/2016/12/Screen-Shot-2016-06-17-at-5.29.33-PM.png
ORGANIZER;CN="West%207th%20Wool":MAILTO:info@west7thwool.com
END:VEVENT
END:VCALENDAR