BEGIN:VCALENDAR
VERSION:2.0
PRODID:-//West 7th Wool - ECPv4.6//NONSGML v1.0//EN
CALSCALE:GREGORIAN
METHOD:PUBLISH
X-WR-CALNAME:West 7th Wool
X-ORIGINAL-URL:https://west7thwool.com
X-WR-CALDESC:Events for West 7th Wool
BEGIN:VEVENT
DTSTART;TZID=America/Chicago:20250322T133000
DTEND;TZID=America/Chicago:20250322T153000
DTSTAMP:20260422T105336
CREATED:20250308T172719Z
LAST-MODIFIED:20250308T172719Z
UID:3657-1742650200-1742657400@west7thwool.com
SUMMARY:Darning Class with Lisa
DESCRIPTION:Click here or the link below to register and for class description. \n
URL:https://west7thwool.com/event/darning-class-lisa/
LOCATION:3612 West 7th Street\, Fort Worth\, TX\, 76107\, United States
CATEGORIES:Class
ATTACH;FMTTYPE=image/png:https://west7thwool.com/wp-content/uploads/2025/03/Screenshot-2025-03-08-at-11.25.57 AM.png
ORGANIZER;CN="West%207th%20Wool":MAILTO:info@west7thwool.com
END:VEVENT
END:VCALENDAR