BEGIN:VCALENDAR
VERSION:2.0
PRODID:-//West 7th Wool - ECPv4.6//NONSGML v1.0//EN
CALSCALE:GREGORIAN
METHOD:PUBLISH
X-WR-CALNAME:West 7th Wool
X-ORIGINAL-URL:https://west7thwool.com
X-WR-CALDESC:Events for West 7th Wool
BEGIN:VEVENT
DTSTART;TZID=America/Chicago:20180729T130000
DTEND;TZID=America/Chicago:20180729T150000
DTSTAMP:20260424T025642
CREATED:20180619T203655Z
LAST-MODIFIED:20180619T203655Z
UID:858-1532869200-1532876400@west7thwool.com
SUMMARY:Design Your Own Lace Shawl
DESCRIPTION:		\n		 document.getElementById('ShopifyEmbedScript') || document.write(''); \nLace Shawl ClassRegistration Deadline: Friday\, July 27\, 5:00 PMInstructor: Jennifer NevittTime: Sunday Afternoons from 1pm to 3pmDate: July 29 and August 12Supplies Needed: \nYarn 430 (550\, 800) yards/393 (503\, 732) meters lace or fingering weight yarn. \nNeedles US 5 (3.75 mm) for lace version/US 6 (4mm) for fingering version\, 40 inch or longer circular needles\, or size needed to achieve gauge. \nAlways wanted to design your own lace shawl\, but not sure where to begin?  Join Jenn for a two session class on designing\, knitting\, and blocking your own lace shawl.  \n  \nSkills needed include: basic knitting skills\, knitted cast-on\, k2tog\, ssk\, yarn over. \nClass policies: Enrollment: Class is limited to 8 people unless approved by the instructor. Enrollment must be made at least 24 hours in advance of the first class to ensure there is a space for you. You can sign up in the store\, online\, or by phone (817)731-5044. Payment should be made at time of enrollment.  \nCancellations: If you need to cancel your class registration\, you will be issued store credit for the class amount if you give us a week or more notice. If given less than a week and we can fill your spot in the knitting class\, you will be issued store credit for the class amount.  \nIf there are less than 2 students in a class\, the class may be cancelled one day prior and store credit will be issued for the class fee.  \nMissed Classes:Missed single classes cannot be made up or credited towards a future class.  \n
URL:https://west7thwool.com/event/design-lace-shawl/
LOCATION:3612 West 7th Street\, Fort Worth\, TX\, 76107\, United States
CATEGORIES:Class
ATTACH;FMTTYPE=image/png:https://west7thwool.com/wp-content/uploads/2017/01/Screen-Shot-2017-01-27-at-10.19.49-AM.png
ORGANIZER;CN="West%207th%20Wool":MAILTO:info@west7thwool.com
END:VEVENT
END:VCALENDAR