BEGIN:VCALENDAR
VERSION:2.0
PRODID:-//West 7th Wool - ECPv4.6//NONSGML v1.0//EN
CALSCALE:GREGORIAN
METHOD:PUBLISH
X-WR-CALNAME:West 7th Wool
X-ORIGINAL-URL:https://west7thwool.com
X-WR-CALDESC:Events for West 7th Wool
BEGIN:VEVENT
DTSTART;TZID=America/Chicago:20251108T140000
DTEND;TZID=America/Chicago:20251108T160000
DTSTAMP:20260423T092212
CREATED:20251022T182607Z
LAST-MODIFIED:20251022T182607Z
UID:3994-1762610400-1762617600@west7thwool.com
SUMMARY:Fingerless Mitts Workshop with Trish
DESCRIPTION:Click here or the link below to register and find out more information. \n
URL:https://west7thwool.com/event/fingerless-mitts-workshop-trish/
LOCATION:3612 West 7th Street\, Fort Worth\, TX\, 76107\, United States
CATEGORIES:Class
ATTACH;FMTTYPE=image/png:https://west7thwool.com/wp-content/uploads/2024/03/Screenshot-2024-03-27-at-3.39.46-PM.png
ORGANIZER;CN="West%207th%20Wool":MAILTO:info@west7thwool.com
END:VEVENT
END:VCALENDAR