BEGIN:VCALENDAR
VERSION:2.0
PRODID:-//West 7th Wool - ECPv4.6//NONSGML v1.0//EN
CALSCALE:GREGORIAN
METHOD:PUBLISH
X-WR-CALNAME:West 7th Wool
X-ORIGINAL-URL:https://west7thwool.com
X-WR-CALDESC:Events for West 7th Wool
BEGIN:VEVENT
DTSTART;TZID=America/Chicago:20180812T130000
DTEND;TZID=America/Chicago:20180812T150000
DTSTAMP:20260423T182640
CREATED:20180728T142645Z
LAST-MODIFIED:20180728T142645Z
UID:924-1534078800-1534086000@west7thwool.com
SUMMARY:Fish Lips Heel Class
DESCRIPTION:		\n		 document.getElementById('ShopifyEmbedScript') || document.write(''); \nHave you heard other knitters talking about the “Fish Lips Kiss Heel” and are wondering what it was? Are you making perfectly striped socks and want your heels to line up? Let Jenn teach you how to knit the “FLK” heel.  \nRegistration Deadline: Friday\, August 10 \, 5:00pmInstructor: Jenn NevittTime: Sunday Afternoon from 1pm to 3pmDate: August 12Supplies: Bring a sock that you have started – it can be just an inch or two of stockinette stitch. Pattern will be provided in class.  \nClass policies: Enrollment: Class is limited to 8 people unless approved by the instructor. Enrollment must be made at least 24 hours in advance of the first class to ensure there is a space for you. You can sign up in the store or online. \nCancellations: If you need to cancel your class registration\, you will be issued store credit for the class amount if you give us a week or more notice. If given less than a week and we can fill your spot in the knitting class\, you will be issued store credit for the class amount.  \nIf there are less than 4 students in a class\, the class may be cancelled one day prior and store credit will be issued for the class fee.  \nMissed Classes:Missed single classes cannot be made up or credited towards a future class.  \n
URL:https://west7thwool.com/event/fish-lips-heel-class/
LOCATION:3612 West 7th Street\, Fort Worth\, TX\, 76107\, United States
CATEGORIES:Class
ATTACH;FMTTYPE=image/png:https://west7thwool.com/wp-content/uploads/2016/07/Screen-Shot-2016-07-31-at-1.30.07-PM.png
ORGANIZER;CN="West%207th%20Wool":MAILTO:info@west7thwool.com
END:VEVENT
END:VCALENDAR