BEGIN:VCALENDAR
VERSION:2.0
PRODID:-//West 7th Wool - ECPv4.6//NONSGML v1.0//EN
CALSCALE:GREGORIAN
METHOD:PUBLISH
X-WR-CALNAME:West 7th Wool
X-ORIGINAL-URL:https://west7thwool.com
X-WR-CALDESC:Events for West 7th Wool
BEGIN:VEVENT
DTSTART;TZID=America/Chicago:20170813T130000
DTEND;TZID=America/Chicago:20170813T150000
DTSTAMP:20260423T121732
CREATED:20170624T211203Z
LAST-MODIFIED:20170624T211203Z
UID:569-1502629200-1502636400@west7thwool.com
SUMMARY:Fixing Mistakes in Knitting
DESCRIPTION:		\n		 document.getElementById('ShopifyEmbedScript') || document.write(''); \nNot sure how to pick up a stitch you’ve dropped? Unsure why you have holes in your knitting? Come to this class to help you identify and fix mistakes in your work on your own! \nRegistration Deadline: Friday\, August 11\, 5:00pmInstructor: Jennifer Nevitt.Time: Sunday Afternoon from 1pm to 3pmDate: August 13\, 2016Skills taught: Picking up dropped stitches\, identifying mistakes\, eliminating unwanted yarnovers\, recognizing a twisted stitch\, what to do if your needle is removed from your work. \nSupplies: If you have projects that have mistakes in them that you have put aside\, please bring them! Also\, please bring some scrap worsted weight yarn and your favorite pair of needles and a crochet hook.                Class policies: Enrollment: Class is limited to 8 people unless approved by the instructor. Enrollment must be made at least 24 hours in advance of the first class to ensure there is a space for you. You can sign up in the store\, online\, or by phone (817)731-5044.  \nCancellations: If you need to cancel your class registration\, you will be issued store credit for the class amount if you give us a week or more notice. If given less than a week and we can fill your spot in the knitting class\, you will be issued store credit for the class amount.  \nIf there are less than 4 students in a class\, the class may be cancelled one day prior and store credit will be issued for the class fee.  \nMissed Classes:Missed single classes cannot be made up or credited towards a future class.  \n
URL:https://west7thwool.com/event/fixing-mistakes-knitting/
LOCATION:3612 West 7th Street\, Fort Worth\, TX\, 76107\, United States
CATEGORIES:Class
ATTACH;FMTTYPE=image/jpeg:https://west7thwool.com/wp-content/uploads/2016/07/image_medium2.jpg
ORGANIZER;CN="West%207th%20Wool":MAILTO:info@west7thwool.com
END:VEVENT
END:VCALENDAR