BEGIN:VCALENDAR
VERSION:2.0
PRODID:-//West 7th Wool - ECPv4.6//NONSGML v1.0//EN
CALSCALE:GREGORIAN
METHOD:PUBLISH
X-WR-CALNAME:West 7th Wool
X-ORIGINAL-URL:https://west7thwool.com
X-WR-CALDESC:Events for West 7th Wool
BEGIN:VEVENT
DTSTART;TZID=America/Chicago:20180818T100000
DTEND;TZID=America/Chicago:20180818T180000
DTSTAMP:20260423T154647
CREATED:20180811T002858Z
LAST-MODIFIED:20180811T002858Z
UID:933-1534586400-1534615200@west7thwool.com
SUMMARY:Leon Alexander Trunk Show
DESCRIPTION:Join us for a WILD trunk show and meet Logan Walters\, owner and dyer of Leon Alexander Yarns from Oklahoma City\, OK. Logan has dyed an exclusive W7W color and local designer Carissa Browning has designed an amazing pattern to show it off. Here is a color clue: its full of unicorn magic!  \n
URL:https://west7thwool.com/event/leon-alexander-trunk-show/
LOCATION:3612 West 7th Street\, Fort Worth\, TX\, 76107\, United States
ATTACH;FMTTYPE=image/png:https://west7thwool.com/wp-content/uploads/2018/08/Screen-Shot-2018-08-10-at-7.28.26-PM.png
ORGANIZER;CN="West%207th%20Wool":MAILTO:info@west7thwool.com
END:VEVENT
END:VCALENDAR