BEGIN:VCALENDAR
VERSION:2.0
PRODID:-//West 7th Wool - ECPv4.6//NONSGML v1.0//EN
CALSCALE:GREGORIAN
METHOD:PUBLISH
X-WR-CALNAME:West 7th Wool
X-ORIGINAL-URL:https://west7thwool.com
X-WR-CALDESC:Events for West 7th Wool
BEGIN:VEVENT
DTSTART;TZID=America/Chicago:20170820T130000
DTEND;TZID=America/Chicago:20170820T160000
DTSTAMP:20260423T183316
CREATED:20170802T185621Z
LAST-MODIFIED:20170802T185621Z
UID:590-1503234000-1503244800@west7thwool.com
SUMMARY:Magic Yarn Project Super Hero Crochet Workshop
DESCRIPTION:Calling all crocheters! Please join us for a free workshop & crochet-a-long as we make super hero beanies for the Magic Yarn Project – a non-profit organization that donates beautiful hand made yarn wigs and hats to children who are fighting the most evil villain on earth: cancer. West 7th Wool will provide the yarn\, The Magic Yarn Project has provided the patterns – all you have to do is bring your hooks! We will be working on the hats from 1-4pm on August 19\, 20\, 26 and 27.  \n
URL:https://west7thwool.com/event/magic-yarn-project-super-hero-crochet-workshop-2/
LOCATION:3612 West 7th Street\, Fort Worth\, TX\, 76107\, United States
ORGANIZER;CN="West%207th%20Wool":MAILTO:info@west7thwool.com
END:VEVENT
END:VCALENDAR