BEGIN:VCALENDAR
VERSION:2.0
PRODID:-//West 7th Wool - ECPv4.6//NONSGML v1.0//EN
CALSCALE:GREGORIAN
METHOD:PUBLISH
X-WR-CALNAME:West 7th Wool
X-ORIGINAL-URL:https://west7thwool.com
X-WR-CALDESC:Events for West 7th Wool
BEGIN:VEVENT
DTSTART;TZID=America/Chicago:20250111T140000
DTEND;TZID=America/Chicago:20250111T160000
DTSTAMP:20260425T182100
CREATED:20250103T212352Z
LAST-MODIFIED:20250103T212352Z
UID:3546-1736604000-1736611200@west7thwool.com
SUMMARY:Raglan Sweater Workshop
DESCRIPTION:Click here or the link below to register. \n
URL:https://west7thwool.com/event/raglan-sweater-workshop/
LOCATION:3612 West 7th Street\, Fort Worth\, TX\, 76107\, United States
CATEGORIES:Class
ATTACH;FMTTYPE=image/png:https://west7thwool.com/wp-content/uploads/2025/01/Screenshot-2025-01-03-at-3.23.31 PM.png
ORGANIZER;CN="West%207th%20Wool":MAILTO:info@west7thwool.com
END:VEVENT
END:VCALENDAR