BEGIN:VCALENDAR
VERSION:2.0
PRODID:-//West 7th Wool - ECPv4.6//NONSGML v1.0//EN
CALSCALE:GREGORIAN
METHOD:PUBLISH
X-WR-CALNAME:West 7th Wool
X-ORIGINAL-URL:https://west7thwool.com
X-WR-CALDESC:Events for West 7th Wool
BEGIN:VEVENT
DTSTART;TZID=America/Chicago:20170813T130000
DTEND;TZID=America/Chicago:20170813T160000
DTSTAMP:20260423T105119
CREATED:20170624T210856Z
LAST-MODIFIED:20170624T210856Z
UID:567-1502629200-1502640000@west7thwool.com
SUMMARY:Second Sunday Spin In
DESCRIPTION:Join your fellow spinners at W7W every second Sunday of the month as we create yarn with our wheels and drop spindles. No reservations required\, everyone is welcome.  \n
URL:https://west7thwool.com/event/second-sunday-spin-6/
LOCATION:3612 West 7th Street\, Fort Worth\, TX\, 76107\, United States
ATTACH;FMTTYPE=image/png:https://west7thwool.com/wp-content/uploads/2017/02/Screen-Shot-2017-02-28-at-10.58.18-AM.png
ORGANIZER;CN="West%207th%20Wool":MAILTO:info@west7thwool.com
END:VEVENT
END:VCALENDAR