BEGIN:VCALENDAR
VERSION:2.0
PRODID:-//West 7th Wool - ECPv4.6//NONSGML v1.0//EN
CALSCALE:GREGORIAN
METHOD:PUBLISH
X-WR-CALNAME:West 7th Wool
X-ORIGINAL-URL:https://west7thwool.com
X-WR-CALDESC:Events for West 7th Wool
BEGIN:VEVENT
DTSTART;TZID=America/Chicago:20190110T110000
DTEND;TZID=America/Chicago:20190110T130000
DTSTAMP:20260424T220336
CREATED:20181213T151549Z
LAST-MODIFIED:20181213T151549Z
UID:1087-1547118000-1547125200@west7thwool.com
SUMMARY:Sunshine Coast Sweater Class
DESCRIPTION:Sunshine Coast Sweater ClassClick Here to Register \nRegistration Deadline: Wednesday\, January 9\,  5:00 pmInstructor: Sherry SmithDates: January 10\, January 24\, February 7 and February 21Time: 11am to 1pmSkills Level: IntermediatePattern: Sunshine Coast by Heidi Kirrmaier(pattern provided in class)  \nThis pullover is quite simple in appearance\, but comes with a few little design details that make it special! The A-line body shape is flattering on many body types. It is intended to fit with ½ to 3 inches of ease at the bust. Knit entirely seamlessly from the top down\, it is also quite easy to execute. The side details are formed through basic increases and decreases. \nFinished Bust size (inches): XS(32)\, S(35)\, M1(38 ¼)\, M2(41 ¼)\, L1(44 ½)\, L2(47 ½)\, XL(50 ¾)\, XXL(54) \n Yarn Weight: The gauge is suitable for a heavy DK or light worsted yarn. Needles: US 5 – 3.75 mm (or needle appropriate to get gauge). Gauge: 20 stitches and 28 rows = 4 inches in stockinette stitch \nYarn Requirements: (metres / yards) \nXS – 775 / 840 S – 870 / 945 M1 – 950 / 1030 M2 – 1125 / 1220 L1 – 1220 / 1325 L2 – 1330 / 1440 XL – 1450 / 1570 XXL – 1540 / 1670 \nHomework:  Come to the first class with a swatch knit to gauge               \n\n\n\nClass policies: Enrollment: Class is limited to 8 people unless approved by the instructor. Enrollment must be made at least 24 hours in advance of the first class to ensure there is a space for you. You can sign up in the store\, online\, or by phone (817)731-5044.  \nCancellations: If you need to cancel your class registration\, you will be issued store credit for the class amount if you give us a week or more notice. If given less than a week and we can fill your spot in the knitting class\, you will be issued store credit for the class amount.  \n\n\n\nIf there are less than 4 students in a class\, the class may be cancelled one day prior and store credit will be issued for the class fee.  \nMissed Classes:Missed single classes cannot be made up or credited towards a future class.  \n
URL:https://west7thwool.com/event/sunshine-coast-sweater-class/
LOCATION:3612 West 7th Street\, Fort Worth\, TX\, 76107\, United States
CATEGORIES:Class
ATTACH;FMTTYPE=image/png:https://west7thwool.com/wp-content/uploads/2018/12/Screen-Shot-2018-12-13-at-8.56.30-AM.png
ORGANIZER;CN="West%207th%20Wool":MAILTO:info@west7thwool.com
END:VEVENT
END:VCALENDAR