BEGIN:VCALENDAR
VERSION:2.0
PRODID:-//West 7th Wool - ECPv4.6//NONSGML v1.0//EN
CALSCALE:GREGORIAN
METHOD:PUBLISH
X-WR-CALNAME:West 7th Wool
X-ORIGINAL-URL:https://west7thwool.com
X-WR-CALDESC:Events for West 7th Wool
BEGIN:VEVENT
DTSTART;TZID=America/Chicago:20180922T130000
DTEND;TZID=America/Chicago:20180922T170000
DTSTAMP:20260422T140032
CREATED:20180822T172632Z
LAST-MODIFIED:20180822T172632Z
UID:972-1537621200-1537635600@west7thwool.com
SUMMARY:Tasseled Cowl with Alexandra Davidoff
DESCRIPTION:		\n		 document.getElementById('ShopifyEmbedScript') || document.write(''); \nRegistration Deadline: Friday\, September 14\, 5:00 pm \nInstructor: Alexandra DavidoffTime: 1pm to 5pm Date: Saturday\, September 15\, 2018 \n\n\n\n\nSIZE: one sizeFINISHED MEASUREMENTS: 48”(127cm) circumference & 14”(35.5cm) wideYARN: 880 yards of DK/ Light Worsted weight yarnNEEDLES: Size 7 (4.5mm) 40 inch circular needles\, Size 5 (4.0mm) set of 2 double-pointed- needles\, OR SIZE TO OBTAIN GAUGENOTIONS: stitch marker\, tapestry needleSKILL LEVEL: Easy \n\n\n\n\nStylish and functional\, this Infinity scarf/cowl is very versatile and could be worn in a variety of ways. An uncommon eight-round mesh pattern is worked in DK/Light Worsted weight yarn. Tassels made from yarn-covered beads and are attached to I-cord ties that thread through the eyelet holes. \n\n\n\n\n\n\n\n\n\n\n\n\nClass Overview \n\n\nStudents will learn uncommon mesh lace pattern. \n\n\nStudents will learn how to make tassel and I-Cord units. \n\n\nStudents will be shown multiple samples of Tasseled Cowl/Infinity scarf in an array of fibers and colors as inspirational pieces for future projects.  \nIncluded in class \n\n\n\n\nPrinted pattern (2 pages with written instructions and chart) \n\n\nTassel kit \nNeed for class \n\n\n\n\nStudents need to know how to cast on in around\, “knit”\, “purl” and “yarn over”. \n\n\nStudents will need to prepare for this class as follows: Loosely CO 240 sts. Join for working in the round\, being careful not to twist stitches; place marker for beginning of round. Work 3 Set- up rounds as follows: Round 1 – 3: * p3\, k1; rep from * to end. \n\n\n 880 yards of DK/ Light Worsted weight yarn. \n\n\nSize 7 (4.5mm) 40 inch circular needles\, Size 5 (4.0mm) set of 2 double-pointed-needles \n\n\nstitch markers\, cable needle. \n\n\n\n\n\n\n \nClass policies: Enrollment: Class is limited to 8 people unless approved by the instructor. Enrollment must be made at least 48 hours in advance of the first class to ensure there is a space for you. You can sign up in the store\, online\, or by phone (817)731-5044.  \nCancellations: If you need to cancel your class registration\, you will be issued store credit for the class amount if you give us a week or more notice. If given less than a week and we can fill your spot in the knitting class\, you will be issued store credit for the class amount.  \nIf there are less than 4 students in a class\, the class may be cancelled one day prior and store credit will be issued for the class fee.  \nMissed Classes:Missed single classes cannot be made up or credited towards a future class.  \n
URL:https://west7thwool.com/event/tasseled-cowl-alexandra-davidoff/
LOCATION:3612 West 7th Street\, Fort Worth\, TX\, 76107\, United States
CATEGORIES:Class
ATTACH;FMTTYPE=image/jpeg:https://west7thwool.com/wp-content/uploads/2018/08/346855_1.jpg
ORGANIZER;CN="West%207th%20Wool":MAILTO:info@west7thwool.com
END:VEVENT
END:VCALENDAR