BEGIN:VCALENDAR
VERSION:2.0
PRODID:-//West 7th Wool - ECPv4.6//NONSGML v1.0//EN
CALSCALE:GREGORIAN
METHOD:PUBLISH
X-WR-CALNAME:West 7th Wool
X-ORIGINAL-URL:https://west7thwool.com
X-WR-CALDESC:Events for West 7th Wool
BEGIN:VEVENT
DTSTART;TZID=America/Chicago:20180721T130000
DTEND;TZID=America/Chicago:20180721T150000
DTSTAMP:20260424T070429
CREATED:20180619T203048Z
LAST-MODIFIED:20180619T203048Z
UID:852-1532178000-1532185200@west7thwool.com
SUMMARY:Technique Class - Double Knitting 7/21
DESCRIPTION:		\n		 document.getElementById('ShopifyEmbedScript') || document.write(''); \nDouble Knitting Class \nInstructor: Amy YoungTime: Saturday Afternoon from 1pm to 3pmDate: July 21\, 2018Skills Taught: Double Knitting\, Chart Reading Supplies: 25 to 50 grams of worsted weight yarn in two contrasting colors\, size 7 or 8 needles.  \nIn this class we will be using a double knitting technique to create a two sided swatch with a heart motif on each side. Instructions and chart for the elephant blanket pattern will be provided. \nClass policies: Enrollment: Class is limited to 6 people unless approved by the instructor. Enrollment must be made at least 24 hours in advance of the first class to ensure there is a space for you. You can sign up in the store\, online\, or by phone (817)731-5044.  \nCancellations: If you need to cancel your class registration\, you will be issued store credit for the class amount if you give us a week or more notice. If given less than a week and we can fill your spot in the knitting class\, you will be issued store credit for the class amount.  \nIf there are less than 4 students in a class\, the class may be cancelled one day prior and store credit will be issued for the class fee.  \nMissed Classes:Missed single classes cannot be made up or credited towards a future class.  \n
URL:https://west7thwool.com/event/technique-class-double-knitting-721/
LOCATION:3612 West 7th Street\, Fort Worth\, TX\, 76107\, United States
CATEGORIES:Class
ATTACH;FMTTYPE=image/png:https://west7thwool.com/wp-content/uploads/2018/04/Screen-Shot-2018-04-25-at-12.47.07-PM.png
ORGANIZER;CN="West%207th%20Wool":MAILTO:info@west7thwool.com
END:VEVENT
END:VCALENDAR