BEGIN:VCALENDAR
VERSION:2.0
PRODID:-//West 7th Wool - ECPv4.6//NONSGML v1.0//EN
CALSCALE:GREGORIAN
METHOD:PUBLISH
X-WR-CALNAME:West 7th Wool
X-ORIGINAL-URL:https://west7thwool.com
X-WR-CALDESC:Events for West 7th Wool
BEGIN:VEVENT
DTSTART;TZID=America/Chicago:20180715T120000
DTEND;TZID=America/Chicago:20180715T140000
DTSTAMP:20260424T111901
CREATED:20180619T202639Z
LAST-MODIFIED:20180619T202639Z
UID:847-1531656000-1531663200@west7thwool.com
SUMMARY:Technique Class - PomPoms & Tassels
DESCRIPTION:		\n		 document.getElementById('ShopifyEmbedScript') || document.write(''); \nRegistration Deadline: Friday\, July 13\, 5:00 pm \nInstructor: Alexandra DavidoffTime: 12 noon to 2pm Date: Sunday\, July 15\, 2018Skill Level: Beginner \nJoin designer Alexandra Davidoff for an afternoon of fun and create the perfect small summer project:  pompoms and tassels! Attach them to a shawl\, scarf\, hat\, purse\, key ring\, gift boxes\, make necklaces and so much more!  \n\n\n\n\n\n\n\n\nSIZE: one sizeMaterials: please bring a tapestry needle and sharp scissors\, all other materials are provided by the instructor.  \n\n\n\n\n\n\n\n\nClass policies: Enrollment: Class is limited to 10 people unless approved by the instructor. Enrollment must be made at least 48 hours in advance of the first class to ensure there is a space for you. (And to confirm your lunch order – menu options will be sent by email one week before the class). You can sign up in the store\, online\, or by phone (817)731-5044.  \nCancellations: If you need to cancel your class registration\, you will be issued store credit for the class amount if you give us a week or more notice. If given less than a week and we can fill your spot in the knitting class\, you will be issued store credit for the class amount.  \nIf there are less than 4 students in a class\, the class may be cancelled one day prior and store credit will be issued for the class fee.  \nMissed Classes:Missed single classes cannot be made up or credited towards a future class.  \n
URL:https://west7thwool.com/event/technique-class-pompoms-tassels/
LOCATION:3612 West 7th Street\, Fort Worth\, TX\, 76107\, United States
CATEGORIES:Class
ATTACH;FMTTYPE=image/jpeg:https://west7thwool.com/wp-content/uploads/2018/06/IMG_3072.jpg
ORGANIZER;CN="West%207th%20Wool":MAILTO:info@west7thwool.com
END:VEVENT
END:VCALENDAR