BEGIN:VCALENDAR
VERSION:2.0
PRODID:-//West 7th Wool - ECPv4.6//NONSGML v1.0//EN
CALSCALE:GREGORIAN
METHOD:PUBLISH
X-WR-CALNAME:West 7th Wool
X-ORIGINAL-URL:https://west7thwool.com
X-WR-CALDESC:Events for West 7th Wool
BEGIN:VEVENT
DTSTART;TZID=America/Chicago:20180913T110000
DTEND;TZID=America/Chicago:20180913T130000
DTSTAMP:20260423T010748
CREATED:20180822T170649Z
LAST-MODIFIED:20180822T170649Z
UID:961-1536836400-1536843600@west7thwool.com
SUMMARY:Tecumseh Sweater Class
DESCRIPTION:		\n		 document.getElementById('ShopifyEmbedScript') || document.write(''); \nRegistration Deadline: Wednesday\, September 12\,  5:00 pmInstructor: Sherry SmithDates: September 13\, September 27\, October 18 and November 1Time: 11am to 1pmSkills Level: IntermediatePattern: Tecumseh by Caitlyn Hunter (pattern provided in class)  \n This relaxed and comfy sweater is a graphic\, modern dream come true!  Knitted from the top down with rounds of colorwork\, this design is straightforward and easy to knit while still being engaging.  This sweater is designed to be worn with 10-14” 25.5- 35.5 cm of positive ease. \n XS\, S\, M\, L\, XL\, 2X\, 3X Finished circumference at bust: 39.25 (43.5\, 48\, 52.25\, 56.75\, 61\, 65.5)” 100 (110.5\, 122\, 133\, 144\, 155\, 166.5) cm \n Yarn Weight:  DK Needles:  US 4/3.5mm                US 6/4mm               Or needle appropriate to get gauge \n Gauge:  22 sts and 30 rounds over 4” 10 cm in stockinette             22 sts and 32 rounds over 4” 10 cm in colorwork pattern \n Yardage:   \nMC: 860 (963\, 1066\, 1204\, 1290\, 1376\, 1548) yards 786.5 (880.5\, 975\, 1101\, 1179.5\, 1258\, 1415.5) meters C1: 110 (123\, 137\, 154\, 165\, 175\, 197) yards 100 (112\, 125\, 140\, 151\, 160\, 180) meters C2: 250 (274\, 340\, 384\, 411\, 450\, 493) yards 229 (250\, 311\, 351\, 376\, 412\, 451) meters \n  \nHomework:  Come to the first class with a swatch knit to gauge               \n\n\n\nClass policies: Enrollment: Class is limited to 8 people unless approved by the instructor. Enrollment must be made at least 24 hours in advance of the first class to ensure there is a space for you. You can sign up in the store\, online\, or by phone (817)731-5044.  \nCancellations: If you need to cancel your class registration\, you will be issued store credit for the class amount if you give us a week or more notice. If given less than a week and we can fill your spot in the knitting class\, you will be issued store credit for the class amount.  \n\n\n\nIf there are less than 4 students in a class\, the class may be cancelled one day prior and store credit will be issued for the class fee.  \nMissed Classes:Missed single classes cannot be made up or credited towards a future class.  \n
URL:https://west7thwool.com/event/tecumseh-sweater-class/
LOCATION:3612 West 7th Street\, Fort Worth\, TX\, 76107\, United States
CATEGORIES:Class
ATTACH;FMTTYPE=image/png:https://west7thwool.com/wp-content/uploads/2018/08/Screen-Shot-2018-08-16-at-10.39.08-AM.png
ORGANIZER;CN="West%207th%20Wool":MAILTO:info@west7thwool.com
END:VEVENT
END:VCALENDAR